BEGIN:VCALENDAR
VERSION:2.0
BEGIN:VEVENT
URL:https://mail.cookingwithnonna.com/LA-FAMIGLIA/viewevent.html?eventid=108 
DTSTART:20170215T000000
DTEND:20170215T230000
SUMMARY:Cooking with Nonna Cookbook Launch
DESCRIPTION:Get all the details about the Cookbook launch and sign up on the mailing list here:
<p><a href="http://cookingwithnonna.com/News/the-cooking-with-nonna-cookbook.html">http://cookingwithnonna.com/News/the-cooking-with-nonna-cookbook.html</a></p>
LOCATION:New York, New York
END:VEVENT
END:VCALENDAR