BEGIN:VCALENDAR
VERSION:2.0
BEGIN:VEVENT
URL:https://mail.cookingwithnonna.com/LA-FAMIGLIA/viewevent.html?eventid=109 
DTSTART:20170531T000000
DTEND:20170531T001500
SUMMARY:Test Event-1
DESCRIPTION:
LOCATION:NYC
END:VEVENT
END:VCALENDAR