BEGIN:VCALENDAR
VERSION:2.0
BEGIN:VEVENT
URL:https://mail.cookingwithnonna.com/LA-FAMIGLIA/viewevent.html?eventid=28 
DTSTART:20130526T120000
DTEND:20130527T230000
SUMMARY:Family from London Over For Weekend
DESCRIPTION:Cooking a four course meal for my family and friends and going to give them a true Italian feast.  Wonderful antipasta with thick sweet balsamic dressing, followed by home made rustic Italian pizza and then I am going to try this chocolate mouse from this website out...ill let you know how it goes! CIAO!
LOCATION:Bedford
END:VEVENT
END:VCALENDAR