BEGIN:VCALENDAR
VERSION:2.0
BEGIN:VEVENT
URL:https://mail.cookingwithnonna.com/LA-FAMIGLIA/viewevent.html?eventid=335 
DTSTART:20170930T000000
DTEND:20170930T001500
SUMMARY:Test Event 1
DESCRIPTION:Test
LOCATION:1 country brook dr, montville, new jersey 07045
END:VEVENT
END:VCALENDAR