BEGIN:VCALENDAR
VERSION:2.0
BEGIN:VEVENT
URL:https://mail.cookingwithnonna.com/LA-FAMIGLIA/viewevent.html?eventid=97 
DTSTART:20160910T000000
DTEND:20160910T235959
SUMMARY:Puglia with Rossella Culinary Tour - 2016
DESCRIPTION:<p>Join Rossella on her Puglia Culinary Tour - 2016.</p>
<p>Details Here: <a href="News/puglia-with-rossella-culinary-tour-2016.html">http://www.cookingwithnonna.com/News/puglia-with-rossella-culinary-tour-2016.html</a></p>
LOCATION:Puglia, Italy
END:VEVENT
END:VCALENDAR